BEGIN:VCALENDAR
VERSION:2.0
PRODID:-//The Broken Science Initiative - ECPv6.15.18//NONSGML v1.0//EN
CALSCALE:GREGORIAN
METHOD:PUBLISH
X-WR-CALNAME:The Broken Science Initiative
X-ORIGINAL-URL:https://brokenscience.org
X-WR-CALDESC:Events for The Broken Science Initiative
REFRESH-INTERVAL;VALUE=DURATION:PT1H
X-Robots-Tag:noindex
X-PUBLISHED-TTL:PT1H
BEGIN:VTIMEZONE
TZID:America/New_York
BEGIN:DAYLIGHT
TZOFFSETFROM:-0500
TZOFFSETTO:-0400
TZNAME:EDT
DTSTART:20250309T070000
END:DAYLIGHT
BEGIN:STANDARD
TZOFFSETFROM:-0400
TZOFFSETTO:-0500
TZNAME:EST
DTSTART:20251102T060000
END:STANDARD
BEGIN:DAYLIGHT
TZOFFSETFROM:-0500
TZOFFSETTO:-0400
TZNAME:EDT
DTSTART:20260308T070000
END:DAYLIGHT
BEGIN:STANDARD
TZOFFSETFROM:-0400
TZOFFSETTO:-0500
TZNAME:EST
DTSTART:20261101T060000
END:STANDARD
BEGIN:DAYLIGHT
TZOFFSETFROM:-0500
TZOFFSETTO:-0400
TZNAME:EDT
DTSTART:20270314T070000
END:DAYLIGHT
BEGIN:STANDARD
TZOFFSETFROM:-0400
TZOFFSETTO:-0500
TZNAME:EST
DTSTART:20271107T060000
END:STANDARD
END:VTIMEZONE
BEGIN:VEVENT
DTSTART;TZID=America/New_York:20260101T180000
DTEND;TZID=America/New_York:20260101T190000
DTSTAMP:20260421T111253
CREATED:20251121T124728Z
LAST-MODIFIED:20251126T010250Z
UID:10000127-1767290400-1767294000@brokenscience.org
SUMMARY:Geist Health Club Metfix | Medical Society Member Showcase
DESCRIPTION:Join us for a live webinar with Geist Health Club — for a comprehensive health-optimization program designed to elevated member well0being through evidence-based fitness\, coaching and holistic health tracking. \nSarah Filson MD is a board-certified Obstetrician Gynecologist dedicated to empowering women through personalized wellness strategies at DesignHer Wellness MD. With over 20 years of experience in women’s health\, Dr. Filson integrates medical expertise with a deep understanding of the interconnectedness of mind and body. Trained at Indiana University School of Medicine\, she focuses on nutrition\, movement\, and medical management with a special focus on PCOS\, perimenopausal and postmenopausal health to guide her patients towards optimal well-being and vitality. Dr. Filson is a member of the International Society for Sexual Medicine (ISSM)\, Menopause Society\, and the International Society for the Study of Women’s Sexual Health (ISSWSH)\, and is board-certified by the American Board of Obstetrics and Gynecology (ABOG). She is member of Broken Science Medical Society. DesignHer Wellness MD has partnered with MetFix Lupos of Geist Health Club to promote health excellence in a multi-faceted approach. \nChris Impagliazzo is a Owner/Trainer/Coach Chris “Pags” has dedicated his life to physical activity and helping others in different capacities. Growing up in Minnesota\, his journey started with hockey and lacrosse through grade school. With college offers for both hockey and lacrosse\, he chose to play semi-professional hockey instead\, playing in the Première B league in Italy in 2005-06. After his hockey career ended\, he became a professionally endorsed Flowboarder\, traveling the US on the Flow Tour for 3 years straight. When that career ended\, he joined the military and attended US Coast Guard Helicopter Rescue Swimmer School in 2014. Upon retiring from the service in 2021\, he immediately opened Coach Pags Fitness and concurrently CrossFit Lupos.\nHis training/coaching/conditioning career started in 2009\, getting his NASM CPT\, PES\, & CES\, also NFPT CPT. In 2010\, he was personal training full time and was the Strength & Conditioning coach for Bloomington Kennedy High school hockey and Lacrosse teams until joining the service in 2012. \nHis CrossFit career started in 2020\, getting his L1 then six months later acquiring his L2. He now holds his CrossFit Level 3 Trainer Certification. Few CrossFit coaches reach this level of education in the industry. \nCourtney Vanderpoel has a decade of Physical Therapy experience under her belt\, Courtney is able to seamlessly blend her clinical expertise with her passion for CrossFit. She believes that healthcare workers should lead from the front\, setting a good example to what a healthy lifestyle can look like. Courtney is dedicated to empowering those around her achieve their fitness goals and showing people they are capable of more than they think. She has a competitive background in soccer\, swimming\, skiing and most recently CrossFit. Courtney has been involved in the CrossFit community since 2020 and was hooked immediately. To her\, the gym is her second home. When she is not helping others\, you’ll find Courtney in the gym practicing her skills to crush her own goals. Courtney has her Doctorate of Physical Therapy\, CrossFit Level 1 Coach\, USAW Level 1 Coach\, and The Barbell Rehab Method Certification \n\nBecome a member of The Medical Society today for access to this discussion and our entire archive of past sessions.
URL:https://brokenscience.org/event/geist-health-club-metfix-medical-society-member-showcase/
LOCATION:Online
CATEGORIES:Medical,MetFix
ATTACH;FMTTYPE=image/png:https://brokenscience.org/wp-content/uploads/2025/11/Geist-Health-Club.png
END:VEVENT
BEGIN:VEVENT
DTSTART;TZID=America/New_York:20260106T110000
DTEND;TZID=America/New_York:20260106T120000
DTSTAMP:20260421T111253
CREATED:20260106T142529Z
LAST-MODIFIED:20260106T142529Z
UID:10000137-1767697200-1767700800@brokenscience.org
SUMMARY:Year In Review / Look at 2026 | The Daley Fix
DESCRIPTION:We’ll take a look back at 2025 and discuss what’s upcoming in 2026.\nThis series is built for coaches\, owners\, and leaders who want to expand their impact in their community. We’re talking with coaches who are redefining what it means to serve outside the standard class model.
URL:https://brokenscience.org/event/year-in-review-look-at-2026-the-daley-fix/
LOCATION:Online
CATEGORIES:Medical,MetFix
ATTACH;FMTTYPE=image/jpeg:https://brokenscience.org/wp-content/uploads/2025/11/DaleyFix-Generic.jpg
END:VEVENT
BEGIN:VEVENT
DTSTART;TZID=America/New_York:20260113T110000
DTEND;TZID=America/New_York:20260113T123000
DTSTAMP:20260421T111253
CREATED:20260112T185437Z
LAST-MODIFIED:20260112T185437Z
UID:10000138-1768302000-1768307400@brokenscience.org
SUMMARY:Implementing MetFix on the Gym Floor with Matt Sherburne | The Daley Fix
DESCRIPTION:We sit down with Matt Sherburne to unpack the implementation of MetFix inside a gym- where affiliates get stuck\, what helps moves the needle\, and how to bridge the gap between understanding the method and coaching it well. \nThis series is built for coaches\, owners\, and leaders who want to expand their impact in their community. We’re talking with coaches who are redefining what it means to serve outside the standard class model.
URL:https://brokenscience.org/event/implementing-metfix-on-the-gym-floor-with-matt-sherburne-the-daley-fix/
LOCATION:Online
CATEGORIES:Medical,MetFix
ATTACH;FMTTYPE=image/png:https://brokenscience.org/wp-content/uploads/2026/01/Thumbnail-TDF-Live-Show-Sherb.png
END:VEVENT
BEGIN:VEVENT
DTSTART;TZID=America/New_York:20260120T110000
DTEND;TZID=America/New_York:20260120T123000
DTSTAMP:20260421T111253
CREATED:20260119T175107Z
LAST-MODIFIED:20260119T175107Z
UID:10000140-1768906800-1768912200@brokenscience.org
SUMMARY:Reaching Those Who Need It Most | The Daley Fix
DESCRIPTION:Listen in as Matt and Debbie from MetFix Crave talk about their successful program Expanding Horizons and how they use fitness and nutrition to serve those in juvenile probation. \nThis series is built for coaches\, owners\, and leaders who want to expand their impact in their community. We’re talking with coaches who are redefining what it means to serve outside the standard class model.
URL:https://brokenscience.org/event/reaching-those-who-need-it-most-the-daley-fix/
LOCATION:Online
CATEGORIES:Medical,MetFix
ATTACH;FMTTYPE=image/png:https://brokenscience.org/wp-content/uploads/2026/01/Thumbnail-TDF-Live-Show-Crave.png
END:VEVENT
BEGIN:VEVENT
DTSTART;VALUE=DATE:20260131
DTEND;VALUE=DATE:20260202
DTSTAMP:20260421T111253
CREATED:20251119T010342Z
LAST-MODIFIED:20260414T121252Z
UID:10000118-1769817600-1769990399@brokenscience.org
SUMMARY:MetFix Seminar @ Persistence Athletics MetFix in Seattle\, WA
DESCRIPTION:Join us at Persistence Athletics MetFix in Seattle\, WA for a MetFix Seminar. \nThis seminar is designed to equip coaches with the knowledge and tools to reverse chronic disease and optimize human performance. MetFix is a metabolic solution—rooted in the science of energy regulation and hormonal balance\, and built to drive real change from the inside out. \nAs a coach\, your role goes far beyond workouts. You are an engineer of human health\, and understanding the ‘why’ behind fitness—metabolism\, bioenergetics\, and the endocrine system—is critical to delivering real\, lasting results for your community. \nYour clients trust you to guide them toward better health\, better performance\, and a higher quality of life. This seminar will provide the scientific foundation and practical tools to do exactly that. \nIf you’re looking for the next step in education so you can make an immediate impact in your community\, this course is for you. \n\n		\n		You are not currently logged into an account. \n		If you have an account\, please login.\n		If you do not have an account\, a new account will be created with the information you provide in the form below. \n		Your submission indicates acceptance and understanding of our \n		privacy policy and terms of conditions.
URL:https://brokenscience.org/event/metfix-seminar-persistence-athletics-metfix-in-seattle-wa-2/
LOCATION:Persistence Athletics MetFix\, 3025\, 1st Ave\, Seattle\, WA\, 98121\, United States
CATEGORIES:MetFix,MetFix Seminars
ATTACH;FMTTYPE=image/png:https://brokenscience.org/wp-content/uploads/2025/06/Seattle-WA-Seminar-Cover.png
END:VEVENT
END:VCALENDAR