BEGIN:VCALENDAR
VERSION:2.0
PRODID:-//The Broken Science Initiative - ECPv6.15.18//NONSGML v1.0//EN
CALSCALE:GREGORIAN
METHOD:PUBLISH
X-WR-CALNAME:The Broken Science Initiative
X-ORIGINAL-URL:https://brokenscience.org
X-WR-CALDESC:Events for The Broken Science Initiative
REFRESH-INTERVAL;VALUE=DURATION:PT1H
X-Robots-Tag:noindex
X-PUBLISHED-TTL:PT1H
BEGIN:VTIMEZONE
TZID:America/New_York
BEGIN:DAYLIGHT
TZOFFSETFROM:-0500
TZOFFSETTO:-0400
TZNAME:EDT
DTSTART:20240310T070000
END:DAYLIGHT
BEGIN:STANDARD
TZOFFSETFROM:-0400
TZOFFSETTO:-0500
TZNAME:EST
DTSTART:20241103T060000
END:STANDARD
BEGIN:DAYLIGHT
TZOFFSETFROM:-0500
TZOFFSETTO:-0400
TZNAME:EDT
DTSTART:20250309T070000
END:DAYLIGHT
BEGIN:STANDARD
TZOFFSETFROM:-0400
TZOFFSETTO:-0500
TZNAME:EST
DTSTART:20251102T060000
END:STANDARD
BEGIN:DAYLIGHT
TZOFFSETFROM:-0500
TZOFFSETTO:-0400
TZNAME:EDT
DTSTART:20260308T070000
END:DAYLIGHT
BEGIN:STANDARD
TZOFFSETFROM:-0400
TZOFFSETTO:-0500
TZNAME:EST
DTSTART:20261101T060000
END:STANDARD
END:VTIMEZONE
BEGIN:VEVENT
DTSTART;TZID=America/New_York:20250618T140000
DTEND;TZID=America/New_York:20250618T153000
DTSTAMP:20260420T062353
CREATED:20250603T185931Z
LAST-MODIFIED:20250603T185931Z
UID:10000084-1750255200-1750260600@brokenscience.org
SUMMARY:Live Webinar with Dr. Dominic D’Agostino – Ketone Metabolic Therapy
DESCRIPTION:Join Dr. Dominic D’Agostino for a live webinar exploring Ketone Metabolic Therapy: Evidence\, Applications\, and Practical Tools for Health Optimization. \nDr. Dominic D’Agostino\, a leading researcher in metabolic health and nutritional neuroscience\, for a deep dive into the science and practical application of Ketone Metabolic Therapy (KMT). Dr. D’Agostino will also explore implementation strategies\, from ketogenic nutrition and exogenous ketones to lifestyle interventions that support ketone metabolism. \nBecome a member of The Medical Society today for free access to this webinar and our entire archive of past sessions.
URL:https://brokenscience.org/event/live-webinar-with-dr-dominic-dagostino-ketone-metabolic-therapy/
LOCATION:Online
CATEGORIES:Medical,MetFix
ATTACH;FMTTYPE=image/png:https://brokenscience.org/wp-content/uploads/2025/06/Webinar-Thumbnail-1.png
END:VEVENT
END:VCALENDAR