BEGIN:VCALENDAR
VERSION:2.0
PRODID:-//The Broken Science Initiative - ECPv6.15.18//NONSGML v1.0//EN
CALSCALE:GREGORIAN
METHOD:PUBLISH
X-WR-CALNAME:The Broken Science Initiative
X-ORIGINAL-URL:https://brokenscience.org
X-WR-CALDESC:Events for The Broken Science Initiative
REFRESH-INTERVAL;VALUE=DURATION:PT1H
X-Robots-Tag:noindex
X-PUBLISHED-TTL:PT1H
BEGIN:VTIMEZONE
TZID:America/New_York
BEGIN:DAYLIGHT
TZOFFSETFROM:-0500
TZOFFSETTO:-0400
TZNAME:EDT
DTSTART:20240310T070000
END:DAYLIGHT
BEGIN:STANDARD
TZOFFSETFROM:-0400
TZOFFSETTO:-0500
TZNAME:EST
DTSTART:20241103T060000
END:STANDARD
BEGIN:DAYLIGHT
TZOFFSETFROM:-0500
TZOFFSETTO:-0400
TZNAME:EDT
DTSTART:20250309T070000
END:DAYLIGHT
BEGIN:STANDARD
TZOFFSETFROM:-0400
TZOFFSETTO:-0500
TZNAME:EST
DTSTART:20251102T060000
END:STANDARD
BEGIN:DAYLIGHT
TZOFFSETFROM:-0500
TZOFFSETTO:-0400
TZNAME:EDT
DTSTART:20260308T070000
END:DAYLIGHT
BEGIN:STANDARD
TZOFFSETFROM:-0400
TZOFFSETTO:-0500
TZNAME:EST
DTSTART:20261101T060000
END:STANDARD
END:VTIMEZONE
BEGIN:VEVENT
DTSTART;TZID=America/New_York:20250922T173000
DTEND;TZID=America/New_York:20250922T183000
DTSTAMP:20260422T005522
CREATED:20250912T113615Z
LAST-MODIFIED:20250912T113615Z
UID:10000103-1758562200-1758565800@brokenscience.org
SUMMARY:Port Clinton MetFix - Class
DESCRIPTION:Join us for a MetFix class at Port Clinton MetFix. \nThis class is free to the public and open to anyone looking to learn more about MetFix. The first half of the class will be a lecture followed by an Academy Staff led workout. \n\n\n		\n		You are not currently logged into an account. \n		If you have an account\, please login.\n		If you do not have an account\, a new account will be created with the information you provide in the form below. \n		Your submission indicates acceptance and understanding of our \n		privacy policy and terms of conditions.
URL:https://brokenscience.org/event/port-clinton-metfix-class/
LOCATION:Port Clinton MetFix\, 116 E Second Street\, Port Clinton\, OH\, 43452\, United States
CATEGORIES:MetFix,MetFix Seminars
ATTACH;FMTTYPE=image/png:https://brokenscience.org/wp-content/uploads/2025/09/Port-Clinton-cover.png
END:VEVENT
END:VCALENDAR