BEGIN:VCALENDAR
VERSION:2.0
PRODID:-//The Broken Science Initiative - ECPv6.15.18//NONSGML v1.0//EN
CALSCALE:GREGORIAN
METHOD:PUBLISH
X-WR-CALNAME:The Broken Science Initiative
X-ORIGINAL-URL:https://brokenscience.org
X-WR-CALDESC:Events for The Broken Science Initiative
REFRESH-INTERVAL;VALUE=DURATION:PT1H
X-Robots-Tag:noindex
X-PUBLISHED-TTL:PT1H
BEGIN:VTIMEZONE
TZID:America/New_York
BEGIN:DAYLIGHT
TZOFFSETFROM:-0500
TZOFFSETTO:-0400
TZNAME:EDT
DTSTART:20240310T070000
END:DAYLIGHT
BEGIN:STANDARD
TZOFFSETFROM:-0400
TZOFFSETTO:-0500
TZNAME:EST
DTSTART:20241103T060000
END:STANDARD
BEGIN:DAYLIGHT
TZOFFSETFROM:-0500
TZOFFSETTO:-0400
TZNAME:EDT
DTSTART:20250309T070000
END:DAYLIGHT
BEGIN:STANDARD
TZOFFSETFROM:-0400
TZOFFSETTO:-0500
TZNAME:EST
DTSTART:20251102T060000
END:STANDARD
BEGIN:DAYLIGHT
TZOFFSETFROM:-0500
TZOFFSETTO:-0400
TZNAME:EDT
DTSTART:20260308T070000
END:DAYLIGHT
BEGIN:STANDARD
TZOFFSETFROM:-0400
TZOFFSETTO:-0500
TZNAME:EST
DTSTART:20261101T060000
END:STANDARD
END:VTIMEZONE
BEGIN:VEVENT
DTSTART;TZID=America/New_York:20251015T140000
DTEND;TZID=America/New_York:20251015T150000
DTSTAMP:20260422T185527
CREATED:20251013T213536Z
LAST-MODIFIED:20251013T213536Z
UID:10000109-1760536800-1760540400@brokenscience.org
SUMMARY:Rope to Success System with Buddy Lee | Live Webinar
DESCRIPTION:Join us for a live webinar with Buddy Lee— U.S. Olympian\, world champion wrestler\, and the global authority on jump rope training. \nRecognized as the World’s Leading Jump Rope Training Expert and dubbed the “Baddest Jumper on the Planet” by Yahoo Sports\, Buddy has transformed jump rope from a playground pastime into one of the most powerful tools for conditioning\, coordination\, and longevity. \nA U.S. Olympian\, 3x Best Marine Athlete of the Year\, and five-time Sports Hall of Fame inductee\, Buddy’s career spans elite athletic performance\, innovation\, and education. He is the inventor of Swivel Bearing Rope Technology\, used by athletes\, military programs\, and fitness professionals worldwide. \nBecome a member of The Medical Society today for free access to this webinar and our entire archive of past sessions.
URL:https://brokenscience.org/event/rope-to-success-system-with-buddy-lee-live-webinar/
LOCATION:Online
CATEGORIES:Medical,MetFix
ATTACH;FMTTYPE=image/png:https://brokenscience.org/wp-content/uploads/2025/10/Michele-Mootz-Webinar.png
END:VEVENT
BEGIN:VEVENT
DTSTART;TZID=America/New_York:20251017T110000
DTEND;TZID=America/New_York:20251017T120000
DTSTAMP:20260422T185527
CREATED:20251006T150418Z
LAST-MODIFIED:20251013T214229Z
UID:10000107-1760698800-1760702400@brokenscience.org
SUMMARY:Future of Fitness: Partnering with Healthcare to prescribe MetFix with Vicky Willis | The Daley Fix
DESCRIPTION:In this Daley Fix episode\, Vicky Willis\, owner of MetFix Lifestyle Studio\, breaks down her proven process for connecting with GP surgeries\, Primary Care Networks\, and social prescribers—helping patients find health through movement. \nLearn how she:\n– Approaches local GPs and prescribers directly\n– Uses community funding and “pay it forward” models to make fitness accessible\n– Integrates the MetFix methodology into healthcare partnerships \nWatch to discover a simple but powerful model any coach or gym can replicate. \nThis series is built for coaches\, owners\, and leaders who want to expand their impact in their community. We’re talking with coaches who are redefining what it means to serve outside the standard class model. \nJoin us on Youtube – Here
URL:https://brokenscience.org/event/the-daley-fix-metfix-lifestyle-studio-owner-vicky-willis/
LOCATION:Online
CATEGORIES:Medical,MetFix
ATTACH;FMTTYPE=image/png:https://brokenscience.org/wp-content/uploads/2025/10/Thumbnail-TDF-Live-Show-Vicky-Willis-1.png
END:VEVENT
BEGIN:VEVENT
DTSTART;TZID=America/New_York:20251021T120000
DTEND;TZID=America/New_York:20251021T130000
DTSTAMP:20260422T185527
CREATED:20251013T120934Z
LAST-MODIFIED:20251015T112734Z
UID:10000108-1761048000-1761051600@brokenscience.org
SUMMARY:The Evolution of the Methodology with Hollis Molloy | The Daley Fix
DESCRIPTION:In this episode of The Daley Fix we’ll be joined with MetFix Academy Staff and Affiliate owner Hollis Molloy \nWe’ll dive into:\n– Why MetFix?\n– How Greg’s methodology has evolved\n– Why there has been a shift to not just focus on fitness in the affiliate but also metabolic health \nThis series is built for coaches\, owners\, and leaders who want to expand their impact in their community. We’re talking with coaches who are redefining what it means to serve outside the standard class model. \nJoin us on Youtube – Here
URL:https://brokenscience.org/event/the-evolution-of-the-methodology-with-hollis-molloy-the-daley-fix/
LOCATION:Online
CATEGORIES:Medical,MetFix
ATTACH;FMTTYPE=image/png:https://brokenscience.org/wp-content/uploads/2025/10/Thumbnail-TDF-Live-Show-Hollis-Molloy.png
END:VEVENT
BEGIN:VEVENT
DTSTART;TZID=America/New_York:20251024T150000
DTEND;TZID=America/New_York:20251024T190000
DTSTAMP:20260422T185527
CREATED:20250905T120143Z
LAST-MODIFIED:20251005T001138Z
UID:10000101-1761318000-1761332400@brokenscience.org
SUMMARY:Ruck & Learn @ GORUCK HQ
DESCRIPTION:Join us for a ruck along the beach\, followed by a MetFix talk and Q&A. Afterwards\, we’ll gather for drinks and a tour of GORUCK HQ. \nThis is a FREE event for anyone — whether you’re a gym owner\, ruck club leader\, trainer\, or simply curious about how fitness\, education\, and service can strengthen your community. \n\n3pm-4pm: Ruck on the Beach4pm-6pm: MetFix Talk / QA6pm: Happy Hour & Hangout \n\n		\n		You are not currently logged into an account. \n		If you have an account\, please login.\n		If you do not have an account\, a new account will be created with the information you provide in the form below. \n		Your submission indicates acceptance and understanding of our \n		privacy policy and terms of conditions.
URL:https://brokenscience.org/event/ruck-learn-goruck-hq-2/
LOCATION:GORUCK HQ Ruck & Learn\, 390 16th Street S\, Jacksonville Beach\, FL\, 32250\, United States
CATEGORIES:MetFix,MetFix Seminars
ATTACH;FMTTYPE=image/png:https://brokenscience.org/wp-content/uploads/2025/09/GORUCK-cover.png
END:VEVENT
BEGIN:VEVENT
DTSTART;VALUE=DATE:20251025
DTEND;VALUE=DATE:20251027
DTSTAMP:20260422T185527
CREATED:20250505T175458Z
LAST-MODIFIED:20260414T115455Z
UID:10000079-1761350400-1761523199@brokenscience.org
SUMMARY:MetFix Seminar @ MetFix JAX
DESCRIPTION:Join us at MetFix JAX in Jacksonville\, FL for a MetFix Seminar. \nThis seminar is designed to equip coaches with the knowledge and tools to reverse chronic disease and optimize human performance. MetFix is a metabolic solution—rooted in the science of energy regulation and hormonal balance\, and built to drive real change from the inside out. \nAs a coach\, your role goes far beyond workouts. You are an engineer of human health\, and understanding the ‘why’ behind fitness—metabolism\, bioenergetics\, and the endocrine system—is critical to delivering real\, lasting results for your community. \nYour clients trust you to guide them toward better health\, better performance\, and a higher quality of life. This seminar will provide the scientific foundation and practical tools to do exactly that. \nIf you’re looking for the next step in education so you can make an immediate impact in your community\, this course is for you. \n\n		\n		You are not currently logged into an account. \n		If you have an account\, please login.\n		If you do not have an account\, a new account will be created with the information you provide in the form below. \n		Your submission indicates acceptance and understanding of our \n		privacy policy and terms of conditions.
URL:https://brokenscience.org/event/metfix-seminar-metfix-jax/
LOCATION:MetFix JAX\, 2593 Mayport Rd STE 103-105\, Jacksonville\, FL\, 32233
CATEGORIES:MetFix,MetFix Seminars
ATTACH;FMTTYPE=image/png:https://brokenscience.org/wp-content/uploads/2025/05/Jacksonville-FL-Seminar-Cover.png
END:VEVENT
BEGIN:VEVENT
DTSTART;TZID=America/New_York:20251027T143000
DTEND;TZID=America/New_York:20251027T153000
DTSTAMP:20260422T185527
CREATED:20251021T180640Z
LAST-MODIFIED:20251021T180704Z
UID:10000110-1761575400-1761579000@brokenscience.org
SUMMARY:Ultra-Processed Food & Depression with David Wiss | Live Webinar
DESCRIPTION:Join us for a live webinar with David Wiss— nutrition researcher and clinician David Wiss\, MS\, RDN\, PhD(c). \nThis webinar explores the growing body of evidence linking ultra-processed food consumption with mental health outcomes—particularly depression. David will unpack the biological\, psychological\, and social mechanisms that connect diet quality to emotional well-being\, and discuss practical steps toward nutritional and behavioral interventions that promote health and longevity. \n\nBecome a member of The Medical Society today for access to this discussion and our entire archive of past sessions.
URL:https://brokenscience.org/event/ultra-processed-food-depression-with-david-wiss-live-webinar/
LOCATION:Online
CATEGORIES:Medical,MetFix
ATTACH;FMTTYPE=image/png:https://brokenscience.org/wp-content/uploads/2025/10/Matt-Miller-Resource-Library.png
END:VEVENT
BEGIN:VEVENT
DTSTART;TZID=America/New_York:20251030T150000
DTEND;TZID=America/New_York:20251030T160000
DTSTAMP:20260422T185527
CREATED:20251028T112223Z
LAST-MODIFIED:20251028T191131Z
UID:10000112-1761836400-1761840000@brokenscience.org
SUMMARY:Josh Hunnicutt New Species MetFix | The Daley Fix
DESCRIPTION:Join us for an episode of The Daley Fix with Josh Hunnicutt. We’ll explore his approach to leadership\, how he’s helping redefine what fitness can look like in his community\, and his perspective on where the future of coaching and fitness is headed. \nThis series is built for coaches\, owners\, and leaders who want to expand their impact in their community. We’re talking with coaches who are redefining what it means to serve outside the standard class model.
URL:https://brokenscience.org/event/josh-hunnicutt-new-species-metfix-the-daley-fix/
LOCATION:Online
CATEGORIES:Medical,MetFix
ATTACH;FMTTYPE=image/png:https://brokenscience.org/wp-content/uploads/2025/10/Thumbnail-TDF-Live-Show-Josh-Hunnicut.png
END:VEVENT
BEGIN:VEVENT
DTSTART;TZID=America/New_York:20251031T110000
DTEND;TZID=America/New_York:20251031T123000
DTSTAMP:20260422T185527
CREATED:20251020T203402Z
LAST-MODIFIED:20251021T181652Z
UID:10000111-1761908400-1761913800@brokenscience.org
SUMMARY:Journal Club with Bob Kaplan and Peter Shaw – A Primer on the ROS Hypothesis of Obesity Pt 2
DESCRIPTION:Join us for a Journal Club webinar with Bob Kaplan and Peter Shaw as they will continue to delve into the ROS Hypothesis of Obesity. \nRather than viewing all reactive oxygen species (ROS) as a negative responses\, this article proposes that ROS aren’t just harmful byproducts of metabolism\, but critical signals that regulate insulin sensitivity. We’ll explore how insulin actually relies on ROS to amplify glucose and fat uptake\, how excess ROS feed back to limit further nutrient entry\, and how different dietary fats shape this signaling. \nThe full article can be found here. \nMissed part 1? Become a member of The Medical Society today for access to this discussion and our entire archive of past sessions.
URL:https://brokenscience.org/event/journal-club-with-bob-kaplan-and-peter-shaw-a-primer-on-the-ros-hypothesis-of-obesity-pt-2/
LOCATION:Online
CATEGORIES:Medical,MetFix
ATTACH;FMTTYPE=image/png:https://brokenscience.org/wp-content/uploads/2025/10/JournalClub-ROS-Primer-Part2-1.png
END:VEVENT
END:VCALENDAR